BEGIN:VCALENDAR
PRODID:-//Trading Places Real Estate ServicesCalendar
VERSION:2.0
METHOD:PUBLISH
BEGIN:VEVENT
URL:https://tradingplaces.net.au/TradingPlaceNetAu_500
ORGANIZER:info@tradingplaces.net.au
DTSTART:20210227T100000
DTEND:20210227T103000
LOCATION:707/30 Alfred Street,  Milsons Point
DTSTAMP:20210226T101922
SUMMARY:Trading Places Real Estate Services Open House - 707/30 Alfred Street,  Milsons Point
DESCRIPTION:Open House: 707/30 Alfred Street,  Milsons Point 
Saturday 10:00-10:30 AM
Click the link for full listing information:https://tradingplaces.net.au/TradingPlaceNetAu_500
CLASS:PUBLIC
BEGIN:VALARM
TRIGGER:-PT1D
ACTION:DISPLAY
DESCRIPTION:Reminder
END:VALARM
END:VEVENT
END:VCALENDAR