BEGIN:VCALENDAR
PRODID:-//Trading Places Real Estate ServicesCalendar
VERSION:2.0
METHOD:PUBLISH
BEGIN:VEVENT
URL:https://tradingplaces.net.au/TradingPlaceNetAu_486
ORGANIZER:info@tradingplaces.net.au
DTSTART:20210227T111500
DTEND:20210227T113000
LOCATION:139/18 Huntley Street,  Alexandria
DTSTAMP:20210226T101925
SUMMARY:Trading Places Real Estate Services Open House - 139/18 Huntley Street,  Alexandria
DESCRIPTION:Open House: 139/18 Huntley Street,  Alexandria 
Saturday 11:15-11:30 AM
Click the link for full listing information:https://tradingplaces.net.au/TradingPlaceNetAu_486
CLASS:PUBLIC
BEGIN:VALARM
TRIGGER:-PT1D
ACTION:DISPLAY
DESCRIPTION:Reminder
END:VALARM
END:VEVENT
END:VCALENDAR