BEGIN:VCALENDAR
PRODID:-//Trading Places Real Estate ServicesCalendar
VERSION:2.0
METHOD:PUBLISH
BEGIN:VEVENT
URL:https://tradingplaces.net.au/TradingPlaceNetAu_194
ORGANIZER:info@tradingplaces.net.au
DTSTART:20210227T121500
DTEND:20210227T124500
LOCATION:603/85 New South Head Road,  Rushcutters Bay
DTSTAMP:20210226T101928
SUMMARY:Trading Places Real Estate Services Open House - 603/85 New South Head Road,  Rushcutters Bay
DESCRIPTION:Open House: 603/85 New South Head Road,  Rushcutters Bay 
Saturday 12:15-12:45 PM
Click the link for full listing information:https://tradingplaces.net.au/TradingPlaceNetAu_194
CLASS:PUBLIC
BEGIN:VALARM
TRIGGER:-PT1D
ACTION:DISPLAY
DESCRIPTION:Reminder
END:VALARM
END:VEVENT
END:VCALENDAR